BEGIN:VCALENDAR
VERSION:2.0
PRODID:-//St James City Boat Club - ECPv6.15.20//NONSGML v1.0//EN
CALSCALE:GREGORIAN
METHOD:PUBLISH
X-WR-CALNAME:St James City Boat Club
X-ORIGINAL-URL:https://sjcboatclub.com
X-WR-CALDESC:Events for St James City Boat Club
REFRESH-INTERVAL;VALUE=DURATION:PT1H
X-Robots-Tag:noindex
X-PUBLISHED-TTL:PT1H
BEGIN:VTIMEZONE
TZID:America/New_York
BEGIN:DAYLIGHT
TZOFFSETFROM:-0500
TZOFFSETTO:-0400
TZNAME:EDT
DTSTART:20230312T070000
END:DAYLIGHT
BEGIN:STANDARD
TZOFFSETFROM:-0400
TZOFFSETTO:-0500
TZNAME:EST
DTSTART:20231105T060000
END:STANDARD
BEGIN:DAYLIGHT
TZOFFSETFROM:-0500
TZOFFSETTO:-0400
TZNAME:EDT
DTSTART:20240310T070000
END:DAYLIGHT
BEGIN:STANDARD
TZOFFSETFROM:-0400
TZOFFSETTO:-0500
TZNAME:EST
DTSTART:20241103T060000
END:STANDARD
BEGIN:DAYLIGHT
TZOFFSETFROM:-0500
TZOFFSETTO:-0400
TZNAME:EDT
DTSTART:20250309T070000
END:DAYLIGHT
BEGIN:STANDARD
TZOFFSETFROM:-0400
TZOFFSETTO:-0500
TZNAME:EST
DTSTART:20251102T060000
END:STANDARD
END:VTIMEZONE
BEGIN:VEVENT
DTSTART;TZID=America/New_York:20240601T110000
DTEND;TZID=America/New_York:20240601T153000
DTSTAMP:20260420T201207
CREATED:20240519T160743Z
LAST-MODIFIED:20240519T160743Z
UID:9522-1717239600-1717255800@sjcboatclub.com
SUMMARY:SJC Boat Club Green Flash Luncheon
DESCRIPTION:Sorry\, but you do not have permission to view this content.
URL:https://sjcboatclub.com/event/sjc-boat-club-green-flash-luncheon/
LOCATION:Pete & Julie Karas’ dock
CATEGORIES:Lunch
END:VEVENT
BEGIN:VEVENT
DTSTART;TZID=America/New_York:20240323T100000
DTEND;TZID=America/New_York:20240323T170000
DTSTAMP:20260420T201207
CREATED:20240306T134608Z
LAST-MODIFIED:20240306T235003Z
UID:9466-1711188000-1711213200@sjcboatclub.com
SUMMARY:SJCBC Cheeseburgers in Paradise. A beachfront lunch prepared by grill masters Del & Mark Mergen and Randy Fowlds and paid for by our club!
DESCRIPTION:Sorry\, but you do not have permission to view this content.
URL:https://sjcboatclub.com/event/cheeseburgers-in-paradise-a-beachfront-lunch-prepared-by-grill-masters-del-mark-mergen-and-randy-fowlds-and-paid-for-by-our-club/
CATEGORIES:Lunch
END:VEVENT
END:VCALENDAR