BEGIN:VCALENDAR
VERSION:2.0
PRODID:-//St James City Boat Club - ECPv6.15.20//NONSGML v1.0//EN
CALSCALE:GREGORIAN
METHOD:PUBLISH
X-WR-CALNAME:St James City Boat Club
X-ORIGINAL-URL:https://sjcboatclub.com
X-WR-CALDESC:Events for St James City Boat Club
REFRESH-INTERVAL;VALUE=DURATION:PT1H
X-Robots-Tag:noindex
X-PUBLISHED-TTL:PT1H
BEGIN:VTIMEZONE
TZID:America/New_York
BEGIN:DAYLIGHT
TZOFFSETFROM:-0500
TZOFFSETTO:-0400
TZNAME:EDT
DTSTART:20230312T070000
END:DAYLIGHT
BEGIN:STANDARD
TZOFFSETFROM:-0400
TZOFFSETTO:-0500
TZNAME:EST
DTSTART:20231105T060000
END:STANDARD
BEGIN:DAYLIGHT
TZOFFSETFROM:-0500
TZOFFSETTO:-0400
TZNAME:EDT
DTSTART:20240310T070000
END:DAYLIGHT
BEGIN:STANDARD
TZOFFSETFROM:-0400
TZOFFSETTO:-0500
TZNAME:EST
DTSTART:20241103T060000
END:STANDARD
BEGIN:DAYLIGHT
TZOFFSETFROM:-0500
TZOFFSETTO:-0400
TZNAME:EDT
DTSTART:20250309T070000
END:DAYLIGHT
BEGIN:STANDARD
TZOFFSETFROM:-0400
TZOFFSETTO:-0500
TZNAME:EST
DTSTART:20251102T060000
END:STANDARD
END:VTIMEZONE
BEGIN:VEVENT
DTSTART;TZID=America/New_York:20240408T170000
DTEND;TZID=America/New_York:20240408T210000
DTSTAMP:20260424T174800
CREATED:20240316T113248Z
LAST-MODIFIED:20240316T113307Z
UID:9497-1712595600-1712610000@sjcboatclub.com
SUMMARY:SJCBC Commodore's Ball - Linda & Tucker Cope's home
DESCRIPTION:Sorry\, but you do not have permission to view this content.
URL:https://sjcboatclub.com/event/sjcbc-commodores-ball/
CATEGORIES:Commodore's Ball,SJCBC Meeting
END:VEVENT
END:VCALENDAR