BEGIN:VCALENDAR
VERSION:2.0
PRODID:-//St James City Boat Club - ECPv6.15.20//NONSGML v1.0//EN
CALSCALE:GREGORIAN
METHOD:PUBLISH
X-ORIGINAL-URL:https://sjcboatclub.com
X-WR-CALDESC:Events for St James City Boat Club
REFRESH-INTERVAL;VALUE=DURATION:PT1H
X-Robots-Tag:noindex
X-PUBLISHED-TTL:PT1H
BEGIN:VTIMEZONE
TZID:America/New_York
BEGIN:DAYLIGHT
TZOFFSETFROM:-0500
TZOFFSETTO:-0400
TZNAME:EDT
DTSTART:20230312T070000
END:DAYLIGHT
BEGIN:STANDARD
TZOFFSETFROM:-0400
TZOFFSETTO:-0500
TZNAME:EST
DTSTART:20231105T060000
END:STANDARD
BEGIN:DAYLIGHT
TZOFFSETFROM:-0500
TZOFFSETTO:-0400
TZNAME:EDT
DTSTART:20240310T070000
END:DAYLIGHT
BEGIN:STANDARD
TZOFFSETFROM:-0400
TZOFFSETTO:-0500
TZNAME:EST
DTSTART:20241103T060000
END:STANDARD
BEGIN:DAYLIGHT
TZOFFSETFROM:-0500
TZOFFSETTO:-0400
TZNAME:EDT
DTSTART:20250309T070000
END:DAYLIGHT
BEGIN:STANDARD
TZOFFSETFROM:-0400
TZOFFSETTO:-0500
TZNAME:EST
DTSTART:20251102T060000
END:STANDARD
BEGIN:DAYLIGHT
TZOFFSETFROM:-0500
TZOFFSETTO:-0400
TZNAME:EDT
DTSTART:20260308T070000
END:DAYLIGHT
BEGIN:STANDARD
TZOFFSETFROM:-0400
TZOFFSETTO:-0500
TZNAME:EST
DTSTART:20261101T060000
END:STANDARD
BEGIN:DAYLIGHT
TZOFFSETFROM:-0500
TZOFFSETTO:-0400
TZNAME:EDT
DTSTART:20270314T070000
END:DAYLIGHT
BEGIN:STANDARD
TZOFFSETFROM:-0400
TZOFFSETTO:-0500
TZNAME:EST
DTSTART:20271107T060000
END:STANDARD
END:VTIMEZONE
BEGIN:VEVENT
DTSTART;TZID=America/New_York:20260413T163000
DTEND;TZID=America/New_York:20260413T190000
DTSTAMP:20260420T144419
CREATED:20260324T141029Z
LAST-MODIFIED:20260324T141311Z
UID:10392-1776097800-1776106800@sjcboatclub.com
SUMMARY:SJCBC April Meeting at SJC Civic Center hosted by Del Mergen & Jan Sanlor
DESCRIPTION:Sorry\, but you do not have permission to view this content.
URL:https://sjcboatclub.com/event/sjcbc-april-meeting-at-sjc-civic-center-hosted-by-del-mergen-jan-sanlor/
LOCATION:SJC Civic Center
CATEGORIES:SJCBC Meeting
END:VEVENT
BEGIN:VEVENT
DTSTART;TZID=America/New_York:20260209T163000
DTEND;TZID=America/New_York:20260209T190000
DTSTAMP:20260420T144419
CREATED:20260201T133525Z
LAST-MODIFIED:20260203T124238Z
UID:10301-1770654600-1770663600@sjcboatclub.com
SUMMARY:SJCBC February Mtg - at SJC Civic Center hosted by Ben Madey & Joe Connolly
DESCRIPTION:Sorry\, but you do not have permission to view this content.
URL:https://sjcboatclub.com/event/sjcbc-february-mtg-at-sjc-civic-center-hosted-by-ben-madey-joe-connolly/
CATEGORIES:SJCBC Meeting
END:VEVENT
BEGIN:VEVENT
DTSTART;TZID=America/New_York:20260112T163000
DTEND;TZID=America/New_York:20260112T190000
DTSTAMP:20260420T144419
CREATED:20251220T130843Z
LAST-MODIFIED:20260105T130229Z
UID:10176-1768235400-1768244400@sjcboatclub.com
SUMMARY:SJCBC Jan 2026 Mtg at SJC Civic Ass'n- New Commodore Installation and New Member Welcome
DESCRIPTION:Sorry\, but you do not have permission to view this content.
URL:https://sjcboatclub.com/event/sjcbc-jan-2026-mtg-at-sjcca-new-commodore-installation-and-new-member-welcome/
CATEGORIES:SJCBC Meeting
END:VEVENT
BEGIN:VEVENT
DTSTART;TZID=America/New_York:20251208T163000
DTEND;TZID=America/New_York:20251208T190000
DTSTAMP:20260420T144419
CREATED:20251126T153104Z
LAST-MODIFIED:20251129T004729Z
UID:10158-1765211400-1765220400@sjcboatclub.com
SUMMARY:SJCBC Christmas Meeting - Rod & Janet Russell's
DESCRIPTION:Sorry\, but you do not have permission to view this content.
URL:https://sjcboatclub.com/event/sjcbc-christmas-meeting-rod-janet-russells/
LOCATION:Rod & Janet Russell
CATEGORIES:SJCBC Meeting
END:VEVENT
BEGIN:VEVENT
DTSTART;TZID=America/New_York:20251110T120000
DTEND;TZID=America/New_York:20251110T143000
DTSTAMP:20260420T144419
CREATED:20251029T150508Z
LAST-MODIFIED:20251107T151213Z
UID:10138-1762776000-1762785000@sjcboatclub.com
SUMMARY:SJCBC Nov Mtg CHANGE Doug and Julie Steck’s home\, 3639 San Carlos Drive\, SJC
DESCRIPTION:Sorry\, but you do not have permission to view this content.
URL:https://sjcboatclub.com/event/sjcbc-nov-mtg-bunces-dekkers-12-pm-on-the-beach-the-north-end-of-b-span-just-before-the-c-span-ramp-going-onto-sanibel/
LOCATION:beach of the north end of B-span just before the C-span ramp going onto Sanibel
CATEGORIES:SJCBC Meeting
END:VEVENT
BEGIN:VEVENT
DTSTART;TZID=America/New_York:20251013T163000
DTEND;TZID=America/New_York:20251013T190000
DTSTAMP:20260420T144419
CREATED:20250514T152511Z
LAST-MODIFIED:20250514T153235Z
UID:10111-1760373000-1760382000@sjcboatclub.com
SUMMARY:SJCBC October Mtg Capt. Frank Donaldson's Home - Details forthcoming
DESCRIPTION:Sorry\, but you do not have permission to view this content.
URL:https://sjcboatclub.com/event/sjcbc-october-mtg-frank-donaldsons-home-details-forthcoming/
LOCATION:Captain Frank Donaldson’s\, 2309 Sapodilla Lane\, St James City\, FL\, 33956
CATEGORIES:SJCBC Meeting
END:VEVENT
BEGIN:VEVENT
DTSTART;TZID=America/New_York:20250811T163000
DTEND;TZID=America/New_York:20250811T193000
DTSTAMP:20260420T144419
CREATED:20250514T152243Z
LAST-MODIFIED:20250730T125515Z
UID:10107-1754929800-1754940600@sjcboatclub.com
SUMMARY:SJCBC August Meeting Lew and Julie Buchanan's Home - Details forthcoming
DESCRIPTION:Sorry\, but you do not have permission to view this content.
URL:https://sjcboatclub.com/event/sjcbc-august-meeting-lew-and-julie-buchanans-home-details-forthcoming/
LOCATION:SJC Civic Center
CATEGORIES:SJCBC Meeting
END:VEVENT
BEGIN:VEVENT
DTSTART;TZID=America/New_York:20250609T160000
DTEND;TZID=America/New_York:20250609T190000
DTSTAMP:20260420T144419
CREATED:20250116T213903Z
LAST-MODIFIED:20250602T121306Z
UID:9713-1749484800-1749495600@sjcboatclub.com
SUMMARY:SJCBC June Meeting Kurt and Janet Giesselman's Home 2234 Banana
DESCRIPTION:Sorry\, but you do not have permission to view this content.
URL:https://sjcboatclub.com/event/sjcbc-may-meeting-denny-karen-bunces-details-forthcoming/
LOCATION:Kurt and Janet Giesselman’s Home
CATEGORIES:SJCBC Meeting
END:VEVENT
BEGIN:VEVENT
DTSTART;TZID=America/New_York:20250414T163000
DTEND;TZID=America/New_York:20250414T193000
DTSTAMP:20260420T144419
CREATED:20241114T195853Z
LAST-MODIFIED:20250323T124058Z
UID:9583-1744648200-1744659000@sjcboatclub.com
SUMMARY:SJCBC April Mtg:  Hosts Dan & Michelle Brothers at  SJCCA
DESCRIPTION:Sorry\, but you do not have permission to view this content.
URL:https://sjcboatclub.com/event/sjcbc-february-mtg-hosts-kim-paul-michelsen-details-forthcoming/
LOCATION:SJC Civic Center
CATEGORIES:SJCBC Meeting
END:VEVENT
BEGIN:VEVENT
DTSTART;TZID=America/New_York:20250210T163000
DTEND;TZID=America/New_York:20250210T193000
DTSTAMP:20260420T144419
CREATED:20241114T195739Z
LAST-MODIFIED:20250201T144847Z
UID:9581-1739205000-1739215800@sjcboatclub.com
SUMMARY:SJCBC February Mtg:  Hosts Jodi & Mickey Brelsford.
DESCRIPTION:Sorry\, but you do not have permission to view this content.
URL:https://sjcboatclub.com/event/sjcbc-february-mtg-hosts-jodi-mickey-brelsford-details-forthcoming/
LOCATION:Micki & Jodi Brelsford 3206 York Road\, 3206 York Road\, St James City\, FL\, 33956
CATEGORIES:SJCBC Meeting
END:VEVENT
BEGIN:VEVENT
DTSTART;TZID=America/New_York:20250113T163000
DTEND;TZID=America/New_York:20250113T193000
DTSTAMP:20260420T144419
CREATED:20241114T195503Z
LAST-MODIFIED:20250104T141640Z
UID:9578-1736785800-1736796600@sjcboatclub.com
SUMMARY:SJCBC January 2025 Mtg:  Hosts Janet and Rod Russell at St James City Civic Center
DESCRIPTION:Sorry\, but you do not have permission to view this content.
URL:https://sjcboatclub.com/event/sjcbc-january-2025-mtg-hosts-janet-and-rod-russell-details-forthcoming/
CATEGORIES:SJCBC Meeting
END:VEVENT
BEGIN:VEVENT
DTSTART;TZID=America/New_York:20241209T163000
DTEND;TZID=America/New_York:20241209T193000
DTSTAMP:20260420T144419
CREATED:20241114T195221Z
LAST-MODIFIED:20241124T153725Z
UID:9575-1733761800-1733772600@sjcboatclub.com
SUMMARY:SJCBC December Mtg at St James City Civic Center:  Hosts Jane & Tom Senst
DESCRIPTION:Sorry\, but you do not have permission to view this content.
URL:https://sjcboatclub.com/event/sjcbc-december-mtg-tom-jane-sents-home-details-forthcoming/
LOCATION:SJC Civic Center
CATEGORIES:SJCBC Meeting
END:VEVENT
BEGIN:VEVENT
DTSTART;TZID=America/New_York:20241111T163000
DTEND;TZID=America/New_York:20241111T193000
DTSTAMP:20260420T144419
CREATED:20241030T002838Z
LAST-MODIFIED:20241106T134620Z
UID:9549-1731342600-1731353400@sjcboatclub.com
SUMMARY:SJCBC November Mtg - St James Civic Center
DESCRIPTION:Sorry\, but you do not have permission to view this content.
URL:https://sjcboatclub.com/event/sjcbc-november-mtg-st-james-civic-center/
LOCATION:SJC Civic Center
CATEGORIES:SJCBC Meeting
END:VEVENT
BEGIN:VEVENT
DTSTART;TZID=America/New_York:20241022T163000
DTEND;TZID=America/New_York:20241022T193000
DTSTAMP:20260420T144419
CREATED:20240923T214440Z
LAST-MODIFIED:20241014T132510Z
UID:9535-1729614600-1729625400@sjcboatclub.com
SUMMARY:SJCBC 15th Anniversary & remembrance of deceased members at Captain Frank Donaldson's
DESCRIPTION:Sorry\, but you do not have permission to view this content.
URL:https://sjcboatclub.com/event/sjcbc-15th-anniversary-remembrance-of-deceased-members-at-captain-frank-donaldsons/
LOCATION:Captain Frank Donaldson’s\, 2309 Sapodilla Lane\, St James City\, FL\, 33956
CATEGORIES:SJCBC Meeting
END:VEVENT
BEGIN:VEVENT
DTSTART;TZID=America/New_York:20240909T163000
DTEND;TZID=America/New_York:20240909T193000
DTSTAMP:20260420T144419
CREATED:20240829T135423Z
LAST-MODIFIED:20240829T135423Z
UID:9531-1725899400-1725910200@sjcboatclub.com
SUMMARY:SJC Boat Club Sept Mtg - Julie & Lew Buchanan's
DESCRIPTION:Sorry\, but you do not have permission to view this content.
URL:https://sjcboatclub.com/event/sjc-boat-club-sept-mtg-julie-lew-buchanans/
CATEGORIES:SJCBC Meeting
END:VEVENT
BEGIN:VEVENT
DTSTART;TZID=America/New_York:20240709T080000
DTEND;TZID=America/New_York:20240709T170000
DTSTAMP:20260420T144419
CREATED:20240519T161015Z
LAST-MODIFIED:20240519T161015Z
UID:9525-1720512000-1720544400@sjcboatclub.com
SUMMARY:SJC Boat Club July Mtg Pete and Julie Karas'
DESCRIPTION:Sorry\, but you do not have permission to view this content.
URL:https://sjcboatclub.com/event/sjc-boat-club-july-mtg-pete-and-julie-karas/
LOCATION:Pete and Julie Karas’
CATEGORIES:SJCBC Meeting
END:VEVENT
BEGIN:VEVENT
DTSTART;TZID=America/New_York:20240506T163000
DTEND;TZID=America/New_York:20240506T193000
DTSTAMP:20260420T144419
CREATED:20240306T135506Z
LAST-MODIFIED:20240428T143510Z
UID:9472-1715013000-1715023800@sjcboatclub.com
SUMMARY:SJCBC Mtg May 6th 2024 at the Nelson's - Seis de Mayo!
DESCRIPTION:Sorry\, but you do not have permission to view this content.
URL:https://sjcboatclub.com/event/may-2024-sjcbc-meeting-at-the-nelsons/
LOCATION:Dave & Ali Nelson’s Home\, 2404 Carambola Ln\, St James city\, FL\, 33956
CATEGORIES:SJCBC Meeting
END:VEVENT
BEGIN:VEVENT
DTSTART;TZID=America/New_York:20240408T170000
DTEND;TZID=America/New_York:20240408T210000
DTSTAMP:20260420T144419
CREATED:20240316T113248Z
LAST-MODIFIED:20240316T113307Z
UID:9497-1712595600-1712610000@sjcboatclub.com
SUMMARY:SJCBC Commodore's Ball - Linda & Tucker Cope's home
DESCRIPTION:Sorry\, but you do not have permission to view this content.
URL:https://sjcboatclub.com/event/sjcbc-commodores-ball/
CATEGORIES:Commodore's Ball,SJCBC Meeting
END:VEVENT
END:VCALENDAR