BEGIN:VCALENDAR
VERSION:2.0
PRODID:-//St James City Boat Club - ECPv6.15.20//NONSGML v1.0//EN
CALSCALE:GREGORIAN
METHOD:PUBLISH
X-WR-CALNAME:St James City Boat Club
X-ORIGINAL-URL:https://sjcboatclub.com
X-WR-CALDESC:Events for St James City Boat Club
REFRESH-INTERVAL;VALUE=DURATION:PT1H
X-Robots-Tag:noindex
X-PUBLISHED-TTL:PT1H
BEGIN:VTIMEZONE
TZID:America/New_York
BEGIN:DAYLIGHT
TZOFFSETFROM:-0500
TZOFFSETTO:-0400
TZNAME:EDT
DTSTART:20230312T070000
END:DAYLIGHT
BEGIN:STANDARD
TZOFFSETFROM:-0400
TZOFFSETTO:-0500
TZNAME:EST
DTSTART:20231105T060000
END:STANDARD
BEGIN:DAYLIGHT
TZOFFSETFROM:-0500
TZOFFSETTO:-0400
TZNAME:EDT
DTSTART:20240310T070000
END:DAYLIGHT
BEGIN:STANDARD
TZOFFSETFROM:-0400
TZOFFSETTO:-0500
TZNAME:EST
DTSTART:20241103T060000
END:STANDARD
BEGIN:DAYLIGHT
TZOFFSETFROM:-0500
TZOFFSETTO:-0400
TZNAME:EDT
DTSTART:20250309T070000
END:DAYLIGHT
BEGIN:STANDARD
TZOFFSETFROM:-0400
TZOFFSETTO:-0500
TZNAME:EST
DTSTART:20251102T060000
END:STANDARD
END:VTIMEZONE
BEGIN:VEVENT
DTSTART;TZID=America/New_York:20241216T074500
DTEND;TZID=America/New_York:20241216T100000
DTSTAMP:20260419T203241
CREATED:20241114T162113Z
LAST-MODIFIED:20241114T162113Z
UID:9569-1734335100-1734343200@sjcboatclub.com
SUMMARY:SJCBC Road Cleanup
DESCRIPTION:Sorry\, but you do not have permission to view this content.
URL:https://sjcboatclub.com/event/sjcbc-road-cleanup/
CATEGORIES:Road Cleanup
END:VEVENT
BEGIN:VEVENT
DTSTART;VALUE=DATE:20241214
DTEND;VALUE=DATE:20241215
DTSTAMP:20260419T203241
CREATED:20241114T161957Z
LAST-MODIFIED:20241114T163902Z
UID:9567-1734134400-1734220799@sjcboatclub.com
SUMMARY:Christmas Boat Parade
DESCRIPTION:Sorry\, but you do not have permission to view this content.
URL:https://sjcboatclub.com/event/christmas-boat-parade/
CATEGORIES:Christmas Boat Parade
END:VEVENT
BEGIN:VEVENT
DTSTART;TZID=America/New_York:20241209T163000
DTEND;TZID=America/New_York:20241209T193000
DTSTAMP:20260419T203241
CREATED:20241114T195221Z
LAST-MODIFIED:20241124T153725Z
UID:9575-1733761800-1733772600@sjcboatclub.com
SUMMARY:SJCBC December Mtg at St James City Civic Center:  Hosts Jane & Tom Senst
DESCRIPTION:Sorry\, but you do not have permission to view this content.
URL:https://sjcboatclub.com/event/sjcbc-december-mtg-tom-jane-sents-home-details-forthcoming/
LOCATION:SJC Civic Center
CATEGORIES:SJCBC Meeting
END:VEVENT
BEGIN:VEVENT
DTSTART;TZID=America/New_York:20241122T100000
DTEND;TZID=America/New_York:20241122T153000
DTSTAMP:20260419T203241
CREATED:20241114T155058Z
LAST-MODIFIED:20241120T144641Z
UID:9563-1732269600-1732289400@sjcboatclub.com
SUMMARY:SJCBC Lunch Cruise to Lighthouse Restaraurant Punta Rassa:  Arrival time 11:00. contact Lew Buchanan at 315-345-6349 or alamokids@msn.com if you plan to attend\,
DESCRIPTION:Sorry\, but you do not have permission to view this content.
URL:https://sjcboatclub.com/event/lucn-cruise-to-lighthouse-restaraurant-punta-rassa-contact-lew-buchanan-at-315-345-6349-or-alamokidsmsn-com-if-you-plan-to-attend/
CATEGORIES:Lunch
END:VEVENT
BEGIN:VEVENT
DTSTART;TZID=America/New_York:20241118T100000
DTEND;TZID=America/New_York:20241118T120000
DTSTAMP:20260419T203241
CREATED:20241114T161236Z
LAST-MODIFIED:20241114T173329Z
UID:9565-1731924000-1731931200@sjcboatclub.com
SUMMARY:SJCBC Boat Club Kayak Excursion depart from Jim Souers dock on Teal court. Contact Lew 315-345-6349 or alamokids@msn.com if you want to participate.
DESCRIPTION:Sorry\, but you do not have permission to view this content.
URL:https://sjcboatclub.com/event/sjcbc-boat-club-kayak-excursion-depart-from-jim-souers-dock-on-teal-court-contact-lew-315-345-6349-or-alamokidsmsn-com-if-you-want-to-participate/
CATEGORIES:Event
END:VEVENT
BEGIN:VEVENT
DTSTART;VALUE=DATE:20241114
DTEND;VALUE=DATE:20241118
DTSTAMP:20260419T203241
CREATED:20241114T154833Z
LAST-MODIFIED:20241114T154833Z
UID:9561-1731542400-1731887999@sjcboatclub.com
SUMMARY:Fort Myers Boat Show
DESCRIPTION:Sorry\, but you do not have permission to view this content.
URL:https://sjcboatclub.com/event/fort-myers-boat-show/
CATEGORIES:Event
END:VEVENT
BEGIN:VEVENT
DTSTART;TZID=America/New_York:20241111T163000
DTEND;TZID=America/New_York:20241111T193000
DTSTAMP:20260419T203241
CREATED:20241030T002838Z
LAST-MODIFIED:20241106T134620Z
UID:9549-1731342600-1731353400@sjcboatclub.com
SUMMARY:SJCBC November Mtg - St James Civic Center
DESCRIPTION:Sorry\, but you do not have permission to view this content.
URL:https://sjcboatclub.com/event/sjcbc-november-mtg-st-james-civic-center/
LOCATION:SJC Civic Center
CATEGORIES:SJCBC Meeting
END:VEVENT
BEGIN:VEVENT
DTSTART;TZID=America/New_York:20241107T080000
DTEND;TZID=America/New_York:20241107T170000
DTSTAMP:20260419T203241
CREATED:20241106T134840Z
LAST-MODIFIED:20241106T134840Z
UID:9557-1730966400-1730998800@sjcboatclub.com
SUMMARY:Reminder to pay Boat Club dues
DESCRIPTION:Sorry\, but you do not have permission to view this content.
URL:https://sjcboatclub.com/event/reminder-to-pay-boat-club-dues/
END:VEVENT
BEGIN:VEVENT
DTSTART;TZID=America/New_York:20241104T120000
DTEND;TZID=America/New_York:20241104T163000
DTSTAMP:20260419T203241
CREATED:20241030T004434Z
LAST-MODIFIED:20241030T004434Z
UID:9551-1730721600-1730737800@sjcboatclub.com
SUMMARY:SJC civic center fundraiser music performances by Jason Bonham and Rudy Cox DETAILS TO FOLLOW
DESCRIPTION:Sorry\, but you do not have permission to view this content.
URL:https://sjcboatclub.com/event/sjc-civic-center-fundraiser-music-performances-by-jason-bonham-and-rudy-cox-details-to-follow/
CATEGORIES:Event
END:VEVENT
BEGIN:VEVENT
DTSTART;TZID=America/New_York:20241022T163000
DTEND;TZID=America/New_York:20241022T193000
DTSTAMP:20260419T203241
CREATED:20240923T214440Z
LAST-MODIFIED:20241014T132510Z
UID:9535-1729614600-1729625400@sjcboatclub.com
SUMMARY:SJCBC 15th Anniversary & remembrance of deceased members at Captain Frank Donaldson's
DESCRIPTION:Sorry\, but you do not have permission to view this content.
URL:https://sjcboatclub.com/event/sjcbc-15th-anniversary-remembrance-of-deceased-members-at-captain-frank-donaldsons/
LOCATION:Captain Frank Donaldson’s\, 2309 Sapodilla Lane\, St James City\, FL\, 33956
CATEGORIES:SJCBC Meeting
END:VEVENT
BEGIN:VEVENT
DTSTART;TZID=America/New_York:20240918T103000
DTEND;TZID=America/New_York:20240918T150000
DTSTAMP:20260419T203241
CREATED:20240924T123147Z
LAST-MODIFIED:20240924T123147Z
UID:9540-1726655400-1726671600@sjcboatclub.com
SUMMARY:Luncheon at the Yucatan
DESCRIPTION:Sorry\, but you do not have permission to view this content.
URL:https://sjcboatclub.com/event/luncheon-at-the-yucatan/
CATEGORIES:Lunch
END:VEVENT
BEGIN:VEVENT
DTSTART;TZID=America/New_York:20240916T070000
DTEND;TZID=America/New_York:20240916T220000
DTSTAMP:20260419T203241
CREATED:20240924T123343Z
LAST-MODIFIED:20240924T123343Z
UID:9542-1726470000-1726524000@sjcboatclub.com
SUMMARY:Road cleanup. Meet at 7 am at the post office. 
DESCRIPTION:Sorry\, but you do not have permission to view this content.
URL:https://sjcboatclub.com/event/road-cleanup-meet-at-7-am-at-the-post-office/
CATEGORIES:Road Cleanup
END:VEVENT
BEGIN:VEVENT
DTSTART;TZID=America/New_York:20240909T163000
DTEND;TZID=America/New_York:20240909T193000
DTSTAMP:20260419T203241
CREATED:20240829T135423Z
LAST-MODIFIED:20240829T135423Z
UID:9531-1725899400-1725910200@sjcboatclub.com
SUMMARY:SJC Boat Club Sept Mtg - Julie & Lew Buchanan's
DESCRIPTION:Sorry\, but you do not have permission to view this content.
URL:https://sjcboatclub.com/event/sjc-boat-club-sept-mtg-julie-lew-buchanans/
CATEGORIES:SJCBC Meeting
END:VEVENT
BEGIN:VEVENT
DTSTART;TZID=America/New_York:20240709T080000
DTEND;TZID=America/New_York:20240709T170000
DTSTAMP:20260419T203241
CREATED:20240519T161015Z
LAST-MODIFIED:20240519T161015Z
UID:9525-1720512000-1720544400@sjcboatclub.com
SUMMARY:SJC Boat Club July Mtg Pete and Julie Karas'
DESCRIPTION:Sorry\, but you do not have permission to view this content.
URL:https://sjcboatclub.com/event/sjc-boat-club-july-mtg-pete-and-julie-karas/
LOCATION:Pete and Julie Karas’
CATEGORIES:SJCBC Meeting
END:VEVENT
BEGIN:VEVENT
DTSTART;TZID=America/New_York:20240601T110000
DTEND;TZID=America/New_York:20240601T153000
DTSTAMP:20260419T203241
CREATED:20240519T160743Z
LAST-MODIFIED:20240519T160743Z
UID:9522-1717239600-1717255800@sjcboatclub.com
SUMMARY:SJC Boat Club Green Flash Luncheon
DESCRIPTION:Sorry\, but you do not have permission to view this content.
URL:https://sjcboatclub.com/event/sjc-boat-club-green-flash-luncheon/
LOCATION:Pete & Julie Karas’ dock
CATEGORIES:Lunch
END:VEVENT
BEGIN:VEVENT
DTSTART;TZID=America/New_York:20240520T100000
DTEND;TZID=America/New_York:20240520T133000
DTSTAMP:20260419T203241
CREATED:20240519T160326Z
LAST-MODIFIED:20240519T160326Z
UID:9517-1716199200-1716211800@sjcboatclub.com
SUMMARY:Service to remember Marty Renkes
DESCRIPTION:Sorry\, but you do not have permission to view this content.
URL:https://sjcboatclub.com/event/service-to-remember-marty-renkes/
LOCATION:Pine Island Community Church
END:VEVENT
BEGIN:VEVENT
DTSTART;TZID=America/New_York:20240520T074500
DTEND;TZID=America/New_York:20240520T093000
DTSTAMP:20260419T203241
CREATED:20240519T160513Z
LAST-MODIFIED:20240519T161141Z
UID:9520-1716191100-1716197400@sjcboatclub.com
SUMMARY:SJC Boat Club Road Cleanup - Mon May 20 at 7:45am meet at the post office
DESCRIPTION:Sorry\, but you do not have permission to view this content.
URL:https://sjcboatclub.com/event/sjc-boat-club-road-cleanup-mon-may-20-at-745am-meet-at-the-post-office/
END:VEVENT
BEGIN:VEVENT
DTSTART;TZID=America/New_York:20240506T163000
DTEND;TZID=America/New_York:20240506T193000
DTSTAMP:20260419T203241
CREATED:20240306T135506Z
LAST-MODIFIED:20240428T143510Z
UID:9472-1715013000-1715023800@sjcboatclub.com
SUMMARY:SJCBC Mtg May 6th 2024 at the Nelson's - Seis de Mayo!
DESCRIPTION:Sorry\, but you do not have permission to view this content.
URL:https://sjcboatclub.com/event/may-2024-sjcbc-meeting-at-the-nelsons/
LOCATION:Dave & Ali Nelson’s Home\, 2404 Carambola Ln\, St James city\, FL\, 33956
CATEGORIES:SJCBC Meeting
END:VEVENT
BEGIN:VEVENT
DTSTART;VALUE=DATE:20240429
DTEND;VALUE=DATE:20240430
DTSTAMP:20260419T203241
CREATED:20240428T143410Z
LAST-MODIFIED:20240428T143410Z
UID:9508-1714348800-1714435199@sjcboatclub.com
SUMMARY:RSVP for May 6 Boat Club mtg to Ali Nelson - alice.nelson16@gmail.com
DESCRIPTION:Sorry\, but you do not have permission to view this content.
URL:https://sjcboatclub.com/event/rsvp-for-may-6-boat-club-mtg-to-ali-nelson-alice-nelson16gmail-com/
END:VEVENT
BEGIN:VEVENT
DTSTART;VALUE=DATE:20240412
DTEND;VALUE=DATE:20240414
DTSTAMP:20260419T203242
CREATED:20240306T135203Z
LAST-MODIFIED:20240306T235327Z
UID:9470-1712880000-1713052799@sjcboatclub.com
SUMMARY:SJCBC Overnight at Pelican Bay (tentative). More info will be forthcoming. Mike Smith is organizing
DESCRIPTION:Sorry\, but you do not have permission to view this content.
URL:https://sjcboatclub.com/event/april-12-13-tentative-overnight-at-pelican-bay-more-info-will-be-forthcoming-mike-smith-is-organizing/
CATEGORIES:Overnight Trip
END:VEVENT
BEGIN:VEVENT
DTSTART;TZID=America/New_York:20240411T100000
DTEND;TZID=America/New_York:20240411T170000
DTSTAMP:20260419T203242
CREATED:20240307T131446Z
LAST-MODIFIED:20240307T131446Z
UID:9494-1712829600-1712854800@sjcboatclub.com
SUMMARY:SJCBC Go Fly a Kite Event  Pink Shell Marina Fort Myers Beach
DESCRIPTION:Sorry\, but you do not have permission to view this content.
URL:https://sjcboatclub.com/event/sjcbc-go-fly-a-kite-event-pink-shell-marina-fort-myers-beach/
LOCATION:Pink Shell Marina Fort Myers Beach
CATEGORIES:Event
END:VEVENT
BEGIN:VEVENT
DTSTART;TZID=America/New_York:20240410T110000
DTEND;TZID=America/New_York:20240412T110000
DTSTAMP:20260419T203242
CREATED:20240307T130713Z
LAST-MODIFIED:20240307T130747Z
UID:9491-1712746800-1712919600@sjcboatclub.com
SUMMARY:SJBC Overnight at Pink Shell Marina
DESCRIPTION:Sorry\, but you do not have permission to view this content.
URL:https://sjcboatclub.com/event/sjbc-overnight-at-pink-shell-marina/
LOCATION:Pink Shell Marina Fort Myers Beach
CATEGORIES:Overnight Trip
END:VEVENT
BEGIN:VEVENT
DTSTART;TZID=America/New_York:20240408T170000
DTEND;TZID=America/New_York:20240408T210000
DTSTAMP:20260419T203242
CREATED:20240316T113248Z
LAST-MODIFIED:20240316T113307Z
UID:9497-1712595600-1712610000@sjcboatclub.com
SUMMARY:SJCBC Commodore's Ball - Linda & Tucker Cope's home
DESCRIPTION:Sorry\, but you do not have permission to view this content.
URL:https://sjcboatclub.com/event/sjcbc-commodores-ball/
CATEGORIES:Commodore's Ball,SJCBC Meeting
END:VEVENT
BEGIN:VEVENT
DTSTART;TZID=America/New_York:20240402T160000
DTEND;TZID=America/New_York:20240402T190000
DTSTAMP:20260419T203242
CREATED:20240306T134323Z
LAST-MODIFIED:20240306T235126Z
UID:9464-1712073600-1712084400@sjcboatclub.com
SUMMARY:SJCBC Happy Hour at the Waterfront
DESCRIPTION:Sorry\, but you do not have permission to view this content.
URL:https://sjcboatclub.com/event/happy-hour-at-the-waterfront-3/
CATEGORIES:Happy Hour
END:VEVENT
BEGIN:VEVENT
DTSTART;TZID=America/New_York:20240401T030000
DTEND;TZID=America/New_York:20240401T170000
DTSTAMP:20260419T203242
CREATED:20240307T125331Z
LAST-MODIFIED:20240307T125331Z
UID:9485-1711940400-1711990800@sjcboatclub.com
SUMMARY:SJCBC Chili Cookoff
DESCRIPTION:Sorry\, but you do not have permission to view this content.
URL:https://sjcboatclub.com/event/sjcbc-chili-cookoff/
LOCATION:SJC Civic Center
END:VEVENT
BEGIN:VEVENT
DTSTART;TZID=America/New_York:20240326T160000
DTEND;TZID=America/New_York:20240326T190000
DTSTAMP:20260419T203242
CREATED:20240306T134249Z
LAST-MODIFIED:20240306T235036Z
UID:9462-1711468800-1711479600@sjcboatclub.com
SUMMARY:SJCBC Happy Hour at the Waterfront
DESCRIPTION:Sorry\, but you do not have permission to view this content.
URL:https://sjcboatclub.com/event/happy-hour-at-the-waterfront-2/
CATEGORIES:Happy Hour
END:VEVENT
BEGIN:VEVENT
DTSTART;TZID=America/New_York:20240323T100000
DTEND;TZID=America/New_York:20240323T170000
DTSTAMP:20260419T203242
CREATED:20240306T134608Z
LAST-MODIFIED:20240306T235003Z
UID:9466-1711188000-1711213200@sjcboatclub.com
SUMMARY:SJCBC Cheeseburgers in Paradise. A beachfront lunch prepared by grill masters Del & Mark Mergen and Randy Fowlds and paid for by our club!
DESCRIPTION:Sorry\, but you do not have permission to view this content.
URL:https://sjcboatclub.com/event/cheeseburgers-in-paradise-a-beachfront-lunch-prepared-by-grill-masters-del-mark-mergen-and-randy-fowlds-and-paid-for-by-our-club/
CATEGORIES:Lunch
END:VEVENT
BEGIN:VEVENT
DTSTART;TZID=America/New_York:20240319T160000
DTEND;TZID=America/New_York:20240319T190000
DTSTAMP:20260419T203242
CREATED:20240306T134200Z
LAST-MODIFIED:20240306T234912Z
UID:9460-1710864000-1710874800@sjcboatclub.com
SUMMARY:SJCBC Happy Hour at the Waterfront
DESCRIPTION:Sorry\, but you do not have permission to view this content.
URL:https://sjcboatclub.com/event/happy-hour-at-the-waterfront/
CATEGORIES:Happy Hour
END:VEVENT
BEGIN:VEVENT
DTSTART;TZID=America/New_York:20240312T160000
DTEND;TZID=America/New_York:20240312T190000
DTSTAMP:20260419T203242
CREATED:20240306T134117Z
LAST-MODIFIED:20240306T234841Z
UID:9458-1710259200-1710270000@sjcboatclub.com
SUMMARY:SJCBC Happy Hour Froggy's
DESCRIPTION:Sorry\, but you do not have permission to view this content.
URL:https://sjcboatclub.com/event/happy-hour-froggys-2/
CATEGORIES:Happy Hour
END:VEVENT
BEGIN:VEVENT
DTSTART;TZID=America/New_York:20240305T160000
DTEND;TZID=America/New_York:20240305T190000
DTSTAMP:20260419T203242
CREATED:20240306T134034Z
LAST-MODIFIED:20240306T234807Z
UID:9456-1709654400-1709665200@sjcboatclub.com
SUMMARY:SJCBC Happy Hour Froggy's
DESCRIPTION:Sorry\, but you do not have permission to view this content.
URL:https://sjcboatclub.com/event/happy-hour-froggys/
CATEGORIES:Happy Hour
END:VEVENT
END:VCALENDAR