BEGIN:VCALENDAR
VERSION:2.0
PRODID:-//St James City Boat Club - ECPv6.15.20//NONSGML v1.0//EN
CALSCALE:GREGORIAN
METHOD:PUBLISH
X-WR-CALNAME:St James City Boat Club
X-ORIGINAL-URL:https://sjcboatclub.com
X-WR-CALDESC:Events for St James City Boat Club
REFRESH-INTERVAL;VALUE=DURATION:PT1H
X-Robots-Tag:noindex
X-PUBLISHED-TTL:PT1H
BEGIN:VTIMEZONE
TZID:America/New_York
BEGIN:DAYLIGHT
TZOFFSETFROM:-0500
TZOFFSETTO:-0400
TZNAME:EDT
DTSTART:20230312T070000
END:DAYLIGHT
BEGIN:STANDARD
TZOFFSETFROM:-0400
TZOFFSETTO:-0500
TZNAME:EST
DTSTART:20231105T060000
END:STANDARD
BEGIN:DAYLIGHT
TZOFFSETFROM:-0500
TZOFFSETTO:-0400
TZNAME:EDT
DTSTART:20240310T070000
END:DAYLIGHT
BEGIN:STANDARD
TZOFFSETFROM:-0400
TZOFFSETTO:-0500
TZNAME:EST
DTSTART:20241103T060000
END:STANDARD
BEGIN:DAYLIGHT
TZOFFSETFROM:-0500
TZOFFSETTO:-0400
TZNAME:EDT
DTSTART:20250309T070000
END:DAYLIGHT
BEGIN:STANDARD
TZOFFSETFROM:-0400
TZOFFSETTO:-0500
TZNAME:EST
DTSTART:20251102T060000
END:STANDARD
END:VTIMEZONE
BEGIN:VEVENT
DTSTART;VALUE=DATE:20240412
DTEND;VALUE=DATE:20240414
DTSTAMP:20260422T214110
CREATED:20240306T135203Z
LAST-MODIFIED:20240306T235327Z
UID:9470-1712880000-1713052799@sjcboatclub.com
SUMMARY:SJCBC Overnight at Pelican Bay (tentative). More info will be forthcoming. Mike Smith is organizing
DESCRIPTION:April 12 & 13 (tentative) – overnight at Pelican Bay. More info will be forthcoming. Mike Smith is organizing
URL:https://sjcboatclub.com/event/april-12-13-tentative-overnight-at-pelican-bay-more-info-will-be-forthcoming-mike-smith-is-organizing/
CATEGORIES:Overnight Trip
END:VEVENT
END:VCALENDAR